Workbook

Sheet 公布版 
A1: 梧州学院2023年度公开招聘非实名人员控制数工作人员面试人员名单
A2: 序号 | B2: 应聘岗位 | C2: 姓名 | D2: 性别 | E2: 备注
A3: 1 | B3: 大数据与软件工程学院专任教师岗1 | C3: 陈豪 | D3: 男
A4: 2 | B4: 大数据与软件工程学院专任教师岗1 | C4: 胡婉洋 | D4: 女
A5: 3 | B5: 大数据与软件工程学院专任教师岗1 | C5: 黄传金 | D5: 男
A6: 4 | B6: 大数据与软件工程学院专任教师岗1 | C6: 韦泓妤 | D6: 女
A7: 5 | B7: 大数据与软件工程学院专任教师岗2 | C7: 段军明 | D7: 男
A8: 6 | B8: 大数据与软件工程学院专任教师岗2 | C8: 黄家广 | D8: 男
A9: 7 | B9: 大数据与软件工程学院专任教师岗2 | C9: 吴华楠 | D9: 男
A10: 8 | B10: 大数据与软件工程学院专任教师岗3 | C10: 陈晓琳 | D10: 女
A11: 9 | B11: 大数据与软件工程学院专任教师岗3 | C11: 岑彩纯 | D11: 女
A12: 10 | B12: 大数据与软件工程学院专任教师岗3 | C12: 邓亚军 | D12: 男
A13: 11 | B13: 大数据与软件工程学院专任教师岗3 | C13: 刘慧 | D13: 女
A14: 12 | B14: 大数据与软件工程学院专任教师岗3 | C14: 邵剑波 | D14: =VLOOKUP(C14,[1]复审版!B3:D287,3,0) -> 男
A15: 13 | B15: 大数据与软件工程学院专任教师岗3 | C15: 覃源淞 | D15: 女
A16: 14 | B16: 电子与信息工程学院专任教师岗 | C16: 曾健铭 | D16: 男
A17: 15 | B17: 电子与信息工程学院专任教师岗 | C17: 侯梦迪 | D17: 男
A18: 16 | B18: 电子与信息工程学院专任教师岗 | C18: 黎仲寅 | D18: 男
A19: 17 | B19: 电子与信息工程学院专任教师岗 | C19: 李思齐 | D19: 男
A20: 18 | B20: 管理学院专任教师岗1 | C20: 覃春燕 | D20: 女
A21: 19 | B21: 管理学院专任教师岗1 | C21: 杨继雄 | D21: 男
A22: 20 | B22: 管理学院专任教师岗1 | C22: 黄善笔 | D22: 男
A23: 21 | B23: 管理学院专任教师岗1 | C23: 黄小敏 | D23: =VLOOKUP(C23,[1]复审版!B12:D295,3,0) -> 女
A24: 22 | B24: 管理学院专任教师岗1 | C24: 贾海萃 | D24: 女
A25: 23 | B25: 管理学院专任教师岗1 | C25: 李锦娟 | D25: 女
A26: 24 | B26: 管理学院专任教师岗1 | C26: 梁旷映雪 | D26: =VLOOKUP(C26,[1]复审版!B15:D298,3,0) -> 女
A27: 25 | B27: 管理学院专任教师岗1 | C27: 王丽花 | D27: =VLOOKUP(C27,[1]复审版!B16:D299,3,0) -> 女
A28: 26 | B28: 管理学院专任教师岗1 | C28: 魏欣然 | D28: =VLOOKUP(C28,[1]复审版!B17:D300,3,0) -> 女
A29: 27 | B29: 管理学院专任教师岗1 | C29: 吴晨瑜 | D29: 女
A30: 28 | B30: 管理学院专任教师岗1 | C30: 张曼莉 | D30: =VLOOKUP(C30,[1]复审版!B19:D302,3,0) -> 女
A31: 29 | B31: 管理学院专任教师岗2 | C31: 陈丽宇 | D31: 女
A32: 30 | B32: 管理学院专任教师岗2 | C32: 李杭 | D32: 男
A33: 31 | B33: 管理学院专任教师岗2 | C33: 李宗梅 | D33: 女
A34: 32 | B34: 管理学院专任教师岗2 | C34: 卢丽娟 | D34: 女
A35: 33 | B35: 管理学院专任教师岗2 | C35: 莫冰雁 | D35: 女
A36: 34 | B36: 管理学院专任教师岗2 | C36: 覃金花 | D36: 女
A37: 35 | B37: 国际教育学院专任教师岗1 | C37: 胡颖 | D37: 女
A38: 36 | B38: 国际教育学院专任教师岗1 | C38: 莫鼎右 | D38: 男
A39: 37 | B39: 国际教育学院专任教师岗1 | C39: 温单婷 | D39: 女
A40: 38 | B40: 国际教育学院专任教师岗2 | C40: 黎舒婷 | D40: 女
A41: 39 | B41: 国际教育学院专任教师岗2 | C41: 王彩健 | D41: 男
A42: 40 | B42: 国际教育学院专任教师岗2 | C42: 杜晓璇 | D42: 女
... A46: 44 | B46: 国际教育学院专任教师岗2 | C46: 刘湖森 | D46: 男
A47: 45 | B47: 国际教育学院专任教师岗2 | C47: 陆源 | D47: =VLOOKUP(C47,[1]复审版!B36:D319,3,0) -> 男
A48: 46 | B48: 国际教育学院专任教师岗2 | C48: 罗秀丹 | D48: =VLOOKUP(C48,[1]复审版!B37:D320,3,0) -> 女
A49: 47 | B49: 国际教育学院专任教师岗2 | C49: 石宗兴 | D49: 男
A50: 48 | B50: 国际教育学院专任教师岗2 | C50: 叶春娣 | D50: 女
A51: 49 | B51: 机械与资源工程学院专任教师岗1 | C51: 黄邦泽 | D51: =VLOOKUP(C51,[1]复审版!B40:D323,3,0) -> 男
A52: 50 | B52: 机械与资源工程学院专任教师岗1 | C52: 黄有吉 | D52: =VLOOKUP(C52,[1]复审版!B41:D324,3,0) -> 男
A53: 51 | B53: 机械与资源工程学院专任教师岗1 | C53: 黄振彬 | D53: 男
A54: 52 | B54: 机械与资源工程学院专任教师岗1 | C54: 韦伟汛 | D54: =VLOOKUP(C54,[1]复审版!B43:D326,3,0) -> 男
A55: 53 | B55: 机械与资源工程学院专任教师岗1 | C55: 祝桢梁 | D55: =VLOOKUP(C55,[1]复审版!B44:D327,3,0) -> 男
A56: 54 | B56: 教师教育学院专任教师岗1 | C56: 黎燕琪 | D56: 女
A57: 55 | B57: 教师教育学院专任教师岗1 | C57: 梁慧婷 | D57: =VLOOKUP(C57,[1]复审版!B46:D329,3,0) -> 女
A58: 56 | B58: 教师教育学院专任教师岗1 | C58: 陆炜琦 | D58: 女
A59: 57 | B59: 教师教育学院专任教师岗2 | C59: 黄成海 | D59: 男
A60: 58 | B60: 教师教育学院专任教师岗2 | C60: 陈富房 | D60: =VLOOKUP(C60,[1]复审版!B49:D332,3,0) -> 男
A61: 59 | B61: 教师教育学院专任教师岗2 | C61: 雷卓婷 | D61: =VLOOKUP(C61,[1]复审版!B50:D333,3,0) -> 女
A62: 60 | B62: 教师教育学院专任教师岗2 | C62: 梁丽婵 | D62: 女
A63: 61 | B63: 教师教育学院专任教师岗2 | C63: 廖丹滢 | D63: 女
A64: 62 | B64: 教师教育学院专任教师岗2 | C64: 莫宇翔 | D64: 男
A65: 63 | B65: 教师教育学院专任教师岗2 | C65: 苏玥 | D65: =VLOOKUP(C65,[1]复审版!B54:D337,3,0) -> 女
A66: 64 | B66: 教师教育学院专任教师岗2 | C66: 王海 | D66: =VLOOKUP(C66,[1]复审版!B55:D338,3,0) -> 男
A67: 65 | B67: 教师教育学院专任教师岗2 | C67: 郑琪文 | D67: =VLOOKUP(C67,[1]复审版!B56:D339,3,0) -> 女
A68: 66 | B68: 教师教育学院专任教师岗2 | C68: 李伃锋 | D68: 男
A69: 67 | B69: 教师教育学院专任教师岗3 | C69: 黄飘雪 | D69: 女
A70: 68 | B70: 教师教育学院专任教师岗3 | C70: 黄夏 | D70: 女
A71: 69 | B71: 教师教育学院专任教师岗3 | C71: 刘一庆 | D71: 男
A72: 70 | B72: 教师教育学院专任教师岗3 | C72: 王法 | D72: 男
A73: 71 | B73: 教师教育学院专任教师岗3 | C73: 韦静 | D73: =VLOOKUP(C73,[1]复审版!B61:D344,3,0) -> 女
A74: 72 | B74: 马克思主义学院专任教师岗 | C74: 唐浩 | D74: 男
A75: 73 | B75: 马克思主义学院专任教师岗 | C75: 杨媛媛 | D75: 女
A76: 74 | B76: 马克思主义学院专任教师岗 | C76: 安婷 | D76: =VLOOKUP(C76,[1]复审版!B64:D347,3,0) -> 女
A77: 75 | B77: 马克思主义学院专任教师岗 | C77: 陈燕莹 | D77: =VLOOKUP(C77,[1]复审版!B65:D348,3,0) -> 女
A78: 76 | B78: 马克思主义学院专任教师岗 | C78: 陈禹江 | D78: =VLOOKUP(C78,[1]复审版!B66:D349,3,0) -> 男
A79: 77 | B79: 马克思主义学院专任教师岗 | C79: 何敏墁 | D79: =VLOOKUP(C79,[1]复审版!B67:D350,3,0) -> 女
A80: 78 | B80: 马克思主义学院专任教师岗 | C80: 何诗慧 | D80: 女
A81: 79 | B81: 马克思主义学院专任教师岗 | C81: 候昌君 | D81: 女
A82: 80 | B82: 马克思主义学院专任教师岗 | C82: 黄伟媚 | D82: 女
A83: 81 | B83: 马克思主义学院专任教师岗 | C83: 黄雪娇 | D83: =VLOOKUP(C83,[1]复审版!B72:D354,3,0) -> 女
A84: 82 | B84: 马克思主义学院专任教师岗 | C84: 黄雅婷 | D84: 女
A85: 83 | B85: 马克思主义学院专任教师岗 | C85: 靳明珠 | D85: 女
A86: 84 | B86: 马克思主义学院专任教师岗 | C86: 雷田润 | D86: 女
A87: 85 | B87: 马克思主义学院专任教师岗 | C87: 黎自勤 | D87: =VLOOKUP(C87,[1]复审版!B76:D358,3,0) -> 女
A88: 86 | B88: 马克思主义学院专任教师岗 | C88: 李炅栩 | D88: 女
A89: 87 | B89: 马克思主义学院专任教师岗 | C89: 李泊沅 | D89: =VLOOKUP(C89,[1]复审版!B78:D360,3,0) -> 女
A90: 88 | B90: 马克思主义学院专任教师岗 | C90: 李燕君 | D90: =VLOOKUP(C90,[1]复审版!B79:D361,3,0) -> 女
A91: 89 | B91: 马克思主义学院专任教师岗 | C91: 梁舒萍 | D91: 女
A92: 90 | B92: 马克思主义学院专任教师岗 | C92: 卢晶 | D92: =VLOOKUP(C92,[1]复审版!B81:D363,3,0) -> 女
A93: 91 | B93: 马克思主义学院专任教师岗 | C93: 陆榕艺 | D93: 女
A94: 92 | B94: 马克思主义学院专任教师岗 | C94: 罗小玉 | D94: 女
A95: 93 | B95: 马克思主义学院专任教师岗 | C95: 马全祥 | D95: 男
A96: 94 | B96: 马克思主义学院专任教师岗 | C96: 毛宏龙 | D96: 男
A97: 95 | B97: 马克思主义学院专任教师岗 | C97: 莫彩飞 | D97: 女
A98: 96 | B98: 马克思主义学院专任教师岗 | C98: 聂玉娇 | D98: =VLOOKUP(C98,[1]复审版!B87:D369,3,0) -> 女
A99: 97 | B99: 马克思主义学院专任教师岗 | C99: 庞丽琼 | D99: 女
A100: 98 | B100: 马克思主义学院专任教师岗 | C100: 覃月 | D100: =VLOOKUP(C100,[1]复审版!B89:D371,3,0) -> 女
A101: 99 | B101: 马克思主义学院专任教师岗 | C101: 谭晓华 | D101: =VLOOKUP(C101,[1]复审版!B90:D372,3,0) -> 女
A102: 100 | B102: 马克思主义学院专任教师岗 | C102: 汪一舟 | D102: 男
A103: 101 | B103: 马克思主义学院专任教师岗 | C103: 韦佳鑫 | D103: 女
...
