Workbook

Sheet 公布版 
A1: 梧州学院2023年度公开招聘非实名人员控制数工作人员面试人员名单
A2: 序号 | B2: 应聘岗位 | C2: 姓名 | D2: 性别 | E2: 备注
A3: 1 | B3: 大数据与软件工程学院专任教师岗1 | C3: 陈豪 | D3: 男
A4: 2 | B4: 大数据与软件工程学院专任教师岗1 | C4: 胡婉洋 | D4: 女
A5: 3 | B5: 大数据与软件工程学院专任教师岗1 | C5: 黄传金 | D5: 男
A6: 4 | B6: 大数据与软件工程学院专任教师岗1 | C6: 韦泓妤 | D6: 女
A7: 5 | B7: 大数据与软件工程学院专任教师岗2 | C7: 段军明 | D7: 男
A8: 6 | B8: 大数据与软件工程学院专任教师岗2 | C8: 黄家广 | D8: 男
A9: 7 | B9: 大数据与软件工程学院专任教师岗2 | C9: 吴华楠 | D9: 男
A10: 8 | B10: 大数据与软件工程学院专任教师岗3 | C10: 陈晓琳 | D10: 女
A11: 9 | B11: 大数据与软件工程学院专任教师岗3 | C11: 岑彩纯 | D11: 女
A12: 10 | B12: 大数据与软件工程学院专任教师岗3 | C12: 邓亚军 | D12: 男
A13: 11 | B13: 大数据与软件工程学院专任教师岗3 | C13: 刘慧 | D13: 女
A14: 12 | B14: 大数据与软件工程学院专任教师岗3 | C14: 邵剑波 | D14: =VLOOKUP(C14,[1]复审版!B3:D287,3,0) -> 男
A15: 13 | B15: 大数据与软件工程学院专任教师岗3 | C15: 覃源淞 | D15: 女
A16: 14 | B16: 电子与信息工程学院专任教师岗 | C16: 曾健铭 | D16: 男
A17: 15 | B17: 电子与信息工程学院专任教师岗 | C17: 侯梦迪 | D17: 男
A18: 16 | B18: 电子与信息工程学院专任教师岗 | C18: 黎仲寅 | D18: 男
A19: 17 | B19: 电子与信息工程学院专任教师岗 | C19: 李思齐 | D19: 男
A20: 18 | B20: 管理学院专任教师岗1 | C20: 覃春燕 | D20: 女
A21: 19 | B21: 管理学院专任教师岗1 | C21: 杨继雄 | D21: 男
A22: 20 | B22: 管理学院专任教师岗1 | C22: 黄善笔 | D22: 男
A23: 21 | B23: 管理学院专任教师岗1 | C23: 黄小敏 | D23: =VLOOKUP(C23,[1]复审版!B12:D295,3,0) -> 女
A24: 22 | B24: 管理学院专任教师岗1 | C24: 贾海萃 | D24: 女
A25: 23 | B25: 管理学院专任教师岗1 | C25: 李锦娟 | D25: 女
A26: 24 | B26: 管理学院专任教师岗1 | C26: 梁旷映雪 | D26: =VLOOKUP(C26,[1]复审版!B15:D298,3,0) -> 女
A27: 25 | B27: 管理学院专任教师岗1 | C27: 王丽花 | D27: =VLOOKUP(C27,[1]复审版!B16:D299,3,0) -> 女
A28: 26 | B28: 管理学院专任教师岗1 | C28: 魏欣然 | D28: =VLOOKUP(C28,[1]复审版!B17:D300,3,0) -> 女
A29: 27 | B29: 管理学院专任教师岗1 | C29: 吴晨瑜 | D29: 女
A30: 28 | B30: 管理学院专任教师岗1 | C30: 张曼莉 | D30: =VLOOKUP(C30,[1]复审版!B19:D302,3,0) -> 女
A31: 29 | B31: 管理学院专任教师岗2 | C31: 陈丽宇 | D31: 女
A32: 30 | B32: 管理学院专任教师岗2 | C32: 李杭 | D32: 男
A33: 31 | B33: 管理学院专任教师岗2 | C33: 李宗梅 | D33: 女
A34: 32 | B34: 管理学院专任教师岗2 | C34: 卢丽娟 | D34: 女
A35: 33 | B35: 管理学院专任教师岗2 | C35: 莫冰雁 | D35: 女
A36: 34 | B36: 管理学院专任教师岗2 | C36: 覃金花 | D36: 女
A37: 35 | B37: 国际教育学院专任教师岗1 | C37: 胡颖 | D37: 女
A38: 36 | B38: 国际教育学院专任教师岗1 | C38: 莫鼎右 | D38: 男
A39: 37 | B39: 国际教育学院专任教师岗1 | C39: 温单婷 | D39: 女
A40: 38 | B40: 国际教育学院专任教师岗2 | C40: 黎舒婷 | D40: 女
...
